BEGIN:VCALENDAR
PRODID:-//eluceo/ical//2.0/EN
VERSION:2.0
CALSCALE:GREGORIAN
BEGIN:VEVENT
UID:d0d9b0da9ef78edfc71c222994c9f024
DTSTAMP:20260421T051412Z
SUMMARY:Mimuna 2024
DESCRIPTION:Jewish Federation of Central Massachusetts\nCalendar\nhttps://j
 ewishcentralmass.org/calendar/mimuna-2024\n\nMimuna 2024\n\nCBS\n\n6:30 pm
DTSTART;TZID=America/New_York:20240430T183000
DTEND;TZID=America/New_York:20240430T203000
END:VEVENT
END:VCALENDAR
