BEGIN:VCALENDAR
PRODID:-//eluceo/ical//2.0/EN
VERSION:2.0
CALSCALE:GREGORIAN
BEGIN:VEVENT
UID:a785d9d83c16bfd42f498bf0464d294d
DTSTAMP:20260423T165842Z
SUMMARY:Mimouna Shaliach 5785
DESCRIPTION:Jewish Federation of Central Massachusetts\nCalendar\nhttps://j
 ewishcentralmass.org/calendar/mimouna-shaliach-5785\n\nMimouna Shaliach 57
 85\n\n6:30 pm
DTSTART;TZID=America/New_York:20250422T183000
DTEND;TZID=America/New_York:20250422T203000
END:VEVENT
END:VCALENDAR
