BEGIN:VCALENDAR
PRODID:-//eluceo/ical//2.0/EN
VERSION:2.0
CALSCALE:GREGORIAN
BEGIN:VEVENT
UID:afc5bee1e27a3086c1e2ea5287d96e3f
DTSTAMP:20260424T001800Z
SUMMARY:Mimouna Celebration 2018
DESCRIPTION:Jewish Federation of Central Massachusetts\nCalendar\nhttps://j
 ewishcentralmass.org/calendar/mimouna-celebration-2018\n\nMimouna Celebrat
 ion  on Sunday\, April 15th at 4:00 pm.\n\nAt the home of Miri Sharon in
  Westboro.
DTSTART;TZID=America/New_York:20180415T160000
DTEND;TZID=America/New_York:20180415T180000
END:VEVENT
END:VCALENDAR
