BEGIN:VCALENDAR
PRODID:-//eluceo/ical//2.0/EN
VERSION:2.0
CALSCALE:GREGORIAN
BEGIN:VEVENT
UID:5d0ebce9ff5efd140f0d420de11b678b
DTSTAMP:20260422T182658Z
SUMMARY:Memorial Service at B'nai Brith Cemetery
DESCRIPTION:Jewish Federation of Central Massachusetts\nCalendar\nhttps://j
 ewishcentralmass.org/calendar/memorial-service-at-bnai-brith-cemetery\n\nM
 emorial Service
DTSTART;TZID=America/New_York:20161009T100000
DTEND;TZID=America/New_York:20161009T110000
END:VEVENT
END:VCALENDAR
