BEGIN:VCALENDAR
PRODID:-//eluceo/ical//2.0/EN
VERSION:2.0
CALSCALE:GREGORIAN
BEGIN:VEVENT
UID:38ffe915dbd0d7056a67564f4df9fb0d
DTSTAMP:20260421T051144Z
SUMMARY:Megillat Ruth with Rabbi Fellman at 7:30 p.m.
DESCRIPTION:Jewish Federation of Central Massachusetts\nCalendar\nhttps://j
 ewishcentralmass.org/calendar/megillat-ruth-with-rabbi-fellman-at-730-pm\n
 \nMegillat Ruth with Rabbi Fellman at 7:30 p.m.\n\nTo get more information
 \, including log in info\, contact the Beth Israel office at 508-756-6204
 .
DTSTART;TZID=America/New_York:20200527T193000
DTEND;TZID=America/New_York:20200527T213000
END:VEVENT
END:VCALENDAR
