BEGIN:VCALENDAR
PRODID:-//eluceo/ical//2.0/EN
VERSION:2.0
CALSCALE:GREGORIAN
BEGIN:VEVENT
UID:2e551346ae57deb430b8fcfde427212e
DTSTAMP:20260421T004819Z
SUMMARY:Meet & Greet with Steven Schimmel
DESCRIPTION:Jewish Federation of Central Massachusetts\nCalendar\nhttps://j
 ewishcentralmass.org/calendar/meet-greet-with-steven-schimmel\n\nMeet & Gr
 eet with Steven Schimmel
DTSTART;TZID=America/New_York:20160925T140000
DTEND;TZID=America/New_York:20160925T160000
END:VEVENT
END:VCALENDAR
