BEGIN:VCALENDAR
PRODID:-//eluceo/ical//2.0/EN
VERSION:2.0
CALSCALE:GREGORIAN
BEGIN:VEVENT
UID:e9b6ebddbeeedf9bf67df1d52b2279bb
DTSTAMP:20260422T203751Z
SUMMARY:Martin Luther King Shabbat at TE
DESCRIPTION:Jewish Federation of Central Massachusetts\nCalendar\nhttps://j
 ewishcentralmass.org/calendar/martin-luther-king-shabbat-at-te\n\nMLK Shab
 bat @ TE
DTSTART;TZID=America/New_York:20130118T180000
DTEND;TZID=America/New_York:20130118T183000
END:VEVENT
END:VCALENDAR
