BEGIN:VCALENDAR
PRODID:-//eluceo/ical//2.0/EN
VERSION:2.0
CALSCALE:GREGORIAN
BEGIN:VEVENT
UID:cbb2fbaf443126921ec43c3ac68aba10
DTSTAMP:20260422T052502Z
SUMMARY:DATE CHANGE! Martin Luther King\, Jr. Shabbat Service
DESCRIPTION:Jewish Federation of Central Massachusetts\nCalendar\nhttps://j
 ewishcentralmass.org/calendar/martin-luther-king-jr-shabbat-service\n\n***
  NEW DATE!!\n\nMartin Luther King\, Jr. Shabbat Service Friday\, January 2
 4\, 2020 at 7:30 PM with Special Musical Guest Joshua Rivera-Watson at Tem
 ple Emanuel Sinai
DTSTART;TZID=America/New_York:20200124T193000
DTEND;TZID=America/New_York:20200124T213000
END:VEVENT
END:VCALENDAR
