BEGIN:VCALENDAR
PRODID:-//eluceo/ical//2.0/EN
VERSION:2.0
CALSCALE:GREGORIAN
BEGIN:VEVENT
UID:a627f4893060345f7e5c2fbe2b28aa16
DTSTAMP:20260423T165812Z
SUMMARY:MARTIN LUTHER KING DAY
DESCRIPTION:Jewish Federation of Central Massachusetts\nCalendar\nhttps://j
 ewishcentralmass.org/calendar/martin-luther-king-day\n\nMARTIN LUTHER KING
  DAY
DTSTART;TZID=America/New_York:20130121T000000
DTEND;TZID=America/New_York:20130121T235900
END:VEVENT
END:VCALENDAR
