BEGIN:VCALENDAR
PRODID:-//eluceo/ical//2.0/EN
VERSION:2.0
CALSCALE:GREGORIAN
BEGIN:VEVENT
UID:adb185c33cbef9e19d8b487bcffb84bd
DTSTAMP:20260423T175742Z
SUMMARY:Making an Impact: You and the Environment
DESCRIPTION:Jewish Federation of Central Massachusetts\nCalendar\nhttps://j
 ewishcentralmass.org/calendar/making-an-impact-you-and-the-environment\n\n
 Hadassah Region Education Day
DTSTART;TZID=America/New_York:20140406T093000
DTEND;TZID=America/New_York:20140406T100000
END:VEVENT
END:VCALENDAR
