BEGIN:VCALENDAR
PRODID:-//eluceo/ical//2.0/EN
VERSION:2.0
CALSCALE:GREGORIAN
BEGIN:VEVENT
UID:640bfab10f68e8b7d50c59df66a52970
DTSTAMP:20260423T153803Z
SUMMARY:Major Donor Event - January 24
DESCRIPTION:Jewish Federation of Central Massachusetts\nCalendar\nhttps://j
 ewishcentralmass.org/calendar/major-donor-event-january-24\n\nMajor Donor 
 Event\n\nWednesday\, January 24 at 4:00pm
DTSTART;TZID=America/New_York:20240124T160000
DTEND;TZID=America/New_York:20240124T170000
END:VEVENT
END:VCALENDAR
