BEGIN:VCALENDAR
PRODID:-//eluceo/ical//2.0/EN
VERSION:2.0
CALSCALE:GREGORIAN
BEGIN:VEVENT
UID:57a5258a477ba14ee91d073061f0e125
DTSTAMP:20260422T171617Z
SUMMARY:Maimonides School Yachad Junior Shabbaton
DESCRIPTION:Jewish Federation of Central Massachusetts\nCalendar\nhttps://j
 ewishcentralmass.org/calendar/maimonides-school-yachad-junior-shabbaton\n\
 n**Drop off is at 3pm on Friday and Saturday night pick up at Maimonide
 s School. Yachad is having a shabbaton in Brookline on March 4-5.  It i
 s an overnight where each participant with special needs ages 8-15 gets a 
 1:1 college age or older advisor who is with them the entire shabbaton. Th
 ey get housed with a Maimonides school family along with their advisor and
  they spend the whole time with our community participating in singing\, d
 ancing\, games and other fun activities as well as meals...
DTSTART;TZID=America/New_York:20160304T150000
DTEND;TZID=America/New_York:20160304T160000
END:VEVENT
END:VCALENDAR
