BEGIN:VCALENDAR
PRODID:-//eluceo/ical//2.0/EN
VERSION:2.0
CALSCALE:GREGORIAN
BEGIN:VEVENT
UID:6c3b832b8be69d19a7d9cb9b5be1cc7d
DTSTAMP:20260423T230130Z
SUMMARY:TES -Magical Middle Eastern Chanukah Party at El Basha
DESCRIPTION:Jewish Federation of Central Massachusetts\nCalendar\nhttps://j
 ewishcentralmass.org/calendar/magical-middle-eastern-chanukah-party-at-el-
 basha\n\nDecember 16\, 5 – 8 pm\, Magical Middle Eastern Chanukah Party 
 at El Basha. $20 middle eastern menu\, $10 childrens menu\, RSVP to office
 @emanuelsinai.org or 508-55-1257
DTSTART;TZID=America/New_York:20171216T000000
DTEND;TZID=America/New_York:20171216T235959
END:VEVENT
END:VCALENDAR
