BEGIN:VCALENDAR
PRODID:-//eluceo/ical//2.0/EN
VERSION:2.0
CALSCALE:GREGORIAN
BEGIN:VEVENT
UID:8b577b07a480be82208fdc1439896bc2
DTSTAMP:20260423T003541Z
SUMMARY:Love Songs & Lullabies
DESCRIPTION:Jewish Federation of Central Massachusetts\nCalendar\nhttps://j
 ewishcentralmass.org/calendar/love-songs-lullabies\n\nShir Joy Winter Conc
 ert\n\nLove Songs and Lullabies\n\nCongregation B'nai Shalom\, 117 East Ma
 in St.\, Westborough\n\nSunday\, 7 pm\, February 12\n\nShir Joy Chorus wil
 l present its Winter Concert\, "Love Songs and Lullabies\," on Sunday\, Fe
 bruary 12\, 2017 at 7 pm at Congregation B'nai Shalom\, 117 E. Main St.\, 
 Westborough\, MA.  Come hear beautiful love songs and sweet lullabies fro
 m ancient to modern times in Ladino\, Yiddish\, Hebrew\, and English.\n\n
  \n\nShir Joy\, an adult community chorus under ...
DTSTART;TZID=America/New_York:20170220T190000
DTEND;TZID=America/New_York:20170220T210000
END:VEVENT
END:VCALENDAR
