BEGIN:VCALENDAR
PRODID:-//eluceo/ical//2.0/EN
VERSION:2.0
CALSCALE:GREGORIAN
BEGIN:VEVENT
UID:4127b22d2c8604e99731dc6525f1c077
DTSTAMP:20260422T221825Z
SUMMARY:Life & Legacy Workshop
DESCRIPTION:Jewish Federation of Central Massachusetts\nCalendar\nhttps://j
 ewishcentralmass.org/calendar/life-legacy-workshop\n\nL&L 3rd Year 2 works
 hop on Oct 16 at 7pm
DTSTART;TZID=America/New_York:20171016T190000
DTEND;TZID=America/New_York:20171016T210000
END:VEVENT
END:VCALENDAR
