BEGIN:VCALENDAR
PRODID:-//eluceo/ical//2.0/EN
VERSION:2.0
CALSCALE:GREGORIAN
BEGIN:VEVENT
UID:ace58a04e178139ad88727020e109540
DTSTAMP:20260421T083931Z
SUMMARY:Life & Legacy Meeting 2023
DESCRIPTION:Jewish Federation of Central Massachusetts\nCalendar\nhttps://j
 ewishcentralmass.org/calendar/life-legacy-meeting-2023\n\nL&L meeting 7PM
  to 9PM
DTSTART;TZID=America/New_York:20230419T190000
DTEND;TZID=America/New_York:20230419T210000
END:VEVENT
END:VCALENDAR
