BEGIN:VCALENDAR
PRODID:-//eluceo/ical//2.0/EN
VERSION:2.0
CALSCALE:GREGORIAN
BEGIN:VEVENT
UID:b89c5a0eddb7e7fd6fcf528f00bb7734
DTSTAMP:20260421T025149Z
SUMMARY:Life & Legacy Meeting
DESCRIPTION:Jewish Federation of Central Massachusetts\nCalendar\nhttps://j
 ewishcentralmass.org/calendar/life-legacy-meeting\n\nLife & Legacy meeting
 \n\n7:00 - 9:00 pm
DTSTART;TZID=America/New_York:20220919T190000
DTEND;TZID=America/New_York:20220919T210000
END:VEVENT
END:VCALENDAR
