BEGIN:VCALENDAR
PRODID:-//eluceo/ical//2.0/EN
VERSION:2.0
CALSCALE:GREGORIAN
BEGIN:VEVENT
UID:8d91a31efe3b125cc2fd53e80258949f
DTSTAMP:20260425T165721Z
SUMMARY:Life & Legacy Event
DESCRIPTION:Jewish Federation of Central Massachusetts\nCalendar\nhttps://j
 ewishcentralmass.org/calendar/life-legacy-event\n\nLife & Legacy Event
DTSTART;TZID=America/New_York:20210411T190000
DTEND;TZID=America/New_York:20210411T210000
END:VEVENT
END:VCALENDAR
