BEGIN:VCALENDAR
PRODID:-//eluceo/ical//2.0/EN
VERSION:2.0
CALSCALE:GREGORIAN
BEGIN:VEVENT
UID:83105a3cc343e85cd50f94bec50ba62a
DTSTAMP:20260423T042134Z
SUMMARY:Life & Legacy Conference 2025
DESCRIPTION:Jewish Federation of Central Massachusetts\nCalendar\nhttps://j
 ewishcentralmass.org/calendar/life-legacy-conference-2025\n\nLife & Legacy
  Conference\n\nSpringfield\, MA
DTSTART;TZID=America/New_York:20250428T080000
DTEND;TZID=America/New_York:20250429T200000
END:VEVENT
END:VCALENDAR
