BEGIN:VCALENDAR
PRODID:-//eluceo/ical//2.0/EN
VERSION:2.0
CALSCALE:GREGORIAN
BEGIN:VEVENT
UID:8ba9bc9a61385f26a3c8ea8a01792f96
DTSTAMP:20260423T081652Z
SUMMARY:Life and Legacy Training
DESCRIPTION:Jewish Federation of Central Massachusetts\nCalendar\nhttps://j
 ewishcentralmass.org/calendar/life-and-legacy-training\n\nAugust 30\n\n7:0
 0 pm\n\nLife & Legacy Training
DTSTART;TZID=America/New_York:20230830T190000
DTEND;TZID=America/New_York:20230830T210000
END:VEVENT
END:VCALENDAR
