BEGIN:VCALENDAR
PRODID:-//eluceo/ical//2.0/EN
VERSION:2.0
CALSCALE:GREGORIAN
BEGIN:VEVENT
UID:f04c292d6c06d8bb185d73ab43733e5a
DTSTAMP:20260424T101604Z
SUMMARY:Lgbtq+ rights in Israel- Virtual lecture
DESCRIPTION:Jewish Federation of Central Massachusetts\nCalendar\nhttps://j
 ewishcentralmass.org/calendar/lgbtq-rights-in-israel-virtual-lecture\n\nLG
 BTQIA Rights in Israel Watch Party: Locale TBA. Sunday\, June 12th 4 pm. Z
 oom speaker on LGBTQIA rights in Israel. Watch together with dinner/drinks
 . Hosts Sara/Alisa/Aviv
DTSTART;TZID=America/New_York:20220612T160000
DTEND;TZID=America/New_York:20220612T180000
END:VEVENT
END:VCALENDAR
