BEGIN:VCALENDAR
PRODID:-//eluceo/ical//2.0/EN
VERSION:2.0
CALSCALE:GREGORIAN
BEGIN:VEVENT
UID:845202b053501caf62a00b5c4b8175d5
DTSTAMP:20260423T210408Z
SUMMARY:LGBT Rights in the US 50+ Years Since Stonewall 7:30 p.m.
DESCRIPTION:Jewish Federation of Central Massachusetts\nCalendar\nhttps://j
 ewishcentralmass.org/calendar/lgbt-rights-in-the-us-50-years-since-stonewa
 ll-730-pm\n\nLGBT Rights in the US 50+ Years Since Stonewall 7:30 p.m.\n\n
 To get more information\, including log in info\, contact the Beth Israel 
 office at 508-756-6204.
DTSTART;TZID=America/New_York:20200603T193000
DTEND;TZID=America/New_York:20200603T213000
END:VEVENT
END:VCALENDAR
