BEGIN:VCALENDAR
PRODID:-//eluceo/ical//2.0/EN
VERSION:2.0
CALSCALE:GREGORIAN
BEGIN:VEVENT
UID:ca7644ccfab19a615d0cf09a55227636
DTSTAMP:20260423T182920Z
SUMMARY:Online Legacy Donor Appreciation Event with Rabbi Leder
DESCRIPTION:Jewish Federation of Central Massachusetts\nCalendar\nhttps://j
 ewishcentralmass.org/calendar/legacy-donor-appreciation-event-with-rabbi-l
 eder\n\nOnline Legacy Donor Appreciation Event with Rabbi Leder 
DTSTART;TZID=America/New_York:20220622T193000
DTEND;TZID=America/New_York:20220622T213000
END:VEVENT
END:VCALENDAR
