BEGIN:VCALENDAR
PRODID:-//eluceo/ical//2.0/EN
VERSION:2.0
CALSCALE:GREGORIAN
BEGIN:VEVENT
UID:612e92553d0b23c1b71ed0961983bff6
DTSTAMP:20260421T180206Z
SUMMARY:SNEC presents Lecture by Mira Awad
DESCRIPTION:Jewish Federation of Central Massachusetts\nCalendar\nhttps://j
 ewishcentralmass.org/calendar/lecture-by-mira-awad\n\nSNEC presents: Lect
 ure by Mira Awad - March 14\, 2021 at 1:00pm
DTSTART;TZID=America/New_York:20210314T130000
DTEND;TZID=America/New_York:20210314T150000
END:VEVENT
END:VCALENDAR
