BEGIN:VCALENDAR
PRODID:-//eluceo/ical//2.0/EN
VERSION:2.0
CALSCALE:GREGORIAN
BEGIN:VEVENT
UID:dc5427de50b4a115b44dba6d1a4534ca
DTSTAMP:20260421T145253Z
SUMMARY:Learning to Talk About (and Back to) Antisemitism
DESCRIPTION:Jewish Federation of Central Massachusetts\nCalendar\nhttps://j
 ewishcentralmass.org/calendar/learning-to-talk-about-and-back-to-antisemit
 ism\n\nLearning to Talk About (and Back to) Antisemitism\n\nPlease join us
  Tuesday\, April 4\, 7:30 PM - 8:30 PM in the Social Hall.\n\nCongregation
  Bnai Shalom \n\n\n\n\n\n\n 
DTSTART;TZID=America/New_York:20230404T193000
DTEND;TZID=America/New_York:20230404T203000
END:VEVENT
END:VCALENDAR
