BEGIN:VCALENDAR
PRODID:-//eluceo/ical//2.0/EN
VERSION:2.0
CALSCALE:GREGORIAN
BEGIN:VEVENT
UID:556c59183cc5997490d2e77a76b7114d
DTSTAMP:20260422T051623Z
SUMMARY:Leadership Council Meeting - Oct19
DESCRIPTION:Jewish Federation of Central Massachusetts\nCalendar\nhttps://j
 ewishcentralmass.org/calendar/leadership-council-meeting-oct19\n\nLeadersh
 ip Council Meeting\n\nMonday\, October 28th at 7:00 pm
DTSTART;TZID=America/New_York:20191028T190000
DTEND;TZID=America/New_York:20191028T210000
END:VEVENT
END:VCALENDAR
