BEGIN:VCALENDAR
PRODID:-//eluceo/ical//2.0/EN
VERSION:2.0
CALSCALE:GREGORIAN
BEGIN:VEVENT
UID:6e43344a0b213bd2ce8d54123cd59600
DTSTAMP:20260422T161102Z
SUMMARY:JFCM Leadership Council
DESCRIPTION:Jewish Federation of Central Massachusetts\nCalendar\nhttps://j
 ewishcentralmass.org/calendar/leadership-council\n\nLeadership Council\n 
DTSTART;TZID=America/New_York:20160426T193000
DTEND;TZID=America/New_York:20160426T210000
END:VEVENT
END:VCALENDAR
