BEGIN:VCALENDAR
PRODID:-//eluceo/ical//2.0/EN
VERSION:2.0
CALSCALE:GREGORIAN
BEGIN:VEVENT
UID:9aa0e001a3d7755b28cacc4d307d9bdd
DTSTAMP:20260423T165832Z
SUMMARY:LBGTQ Community Outreach Training
DESCRIPTION:Jewish Federation of Central Massachusetts\nCalendar\nhttps://j
 ewishcentralmass.org/calendar/lbgtq-community-outreach-training\n\nWednesd
 ay\, November 20th\, Central Mass Leadership LGBTQ Educational Program\, 7
 :00 pm\, BI Library
DTSTART;TZID=America/New_York:20191120T190000
DTEND;TZID=America/New_York:20191120T210000
END:VEVENT
END:VCALENDAR
