BEGIN:VCALENDAR
PRODID:-//eluceo/ical//2.0/EN
VERSION:2.0
CALSCALE:GREGORIAN
BEGIN:VEVENT
UID:eb74586073e64861048bbc3a97a530e5
DTSTAMP:20260422T042747Z
SUMMARY:Latino-Jewish Speaker Dr. Dalia Wassner of Brandeis Hadassah Instit
 ute
DESCRIPTION:Jewish Federation of Central Massachusetts\nCalendar\nhttps://j
 ewishcentralmass.org/calendar/latino-jewish-speaker-featuring-dr-dalia-was
 sner-of-brandeis-hadassah-institute\n\nLatino-Jewish Speaker Dr. Dalia Was
 sner of Brandeis Hadassah Institute
DTSTART;TZID=America/New_York:20181115T190000
DTEND;TZID=America/New_York:20181115T210000
END:VEVENT
END:VCALENDAR
