BEGIN:VCALENDAR
PRODID:-//eluceo/ical//2.0/EN
VERSION:2.0
CALSCALE:GREGORIAN
BEGIN:VEVENT
UID:7ef5a0d0291ef326f1fd38543731367d
DTSTAMP:20260422T081623Z
SUMMARY:Latino-Jewish Program to Broken Creek Winery
DESCRIPTION:Jewish Federation of Central Massachusetts\nCalendar\nhttps://j
 ewishcentralmass.org/calendar/latino-jewish-program-to-broken-creek-winery
 \n\nLatino-Jewish Program to Broken Creek Winery
DTSTART;TZID=America/New_York:20180830T190000
DTEND;TZID=America/New_York:20180830T210000
END:VEVENT
END:VCALENDAR
