BEGIN:VCALENDAR
PRODID:-//eluceo/ical//2.0/EN
VERSION:2.0
CALSCALE:GREGORIAN
BEGIN:VEVENT
UID:0a9824f740307dbd930cf9c83bd587a7
DTSTAMP:20260423T085220Z
SUMMARY:Latino-Jewish Dialogue Passover Model Seder
DESCRIPTION:Jewish Federation of Central Massachusetts\nCalendar\nhttps://j
 ewishcentralmass.org/calendar/latino-jewish-dialogue-passover-model-seder\
 n\nJoin us to experience the journey of the ancient Hebrews' deliverance f
 rom Egypt. The Passover Model Seder is a ritual during the Jewish holiday 
 in which the story of the Exodus is retold.\n\nEvent is being held at Cafe
  Reyes\n\nLight food and coffee to be served
DTSTART;TZID=America/New_York:20150322T150000
DTEND;TZID=America/New_York:20150322T170000
END:VEVENT
END:VCALENDAR
