BEGIN:VCALENDAR
PRODID:-//eluceo/ical//2.0/EN
VERSION:2.0
CALSCALE:GREGORIAN
BEGIN:VEVENT
UID:5b8ffe57894170150fee6a6dc771fc40
DTSTAMP:20260424T090231Z
SUMMARY:Latino Jewish Cooking Event
DESCRIPTION:Jewish Federation of Central Massachusetts\nCalendar\nhttps://j
 ewishcentralmass.org/calendar/latino-jewish-cooking-event\n\nLatino Jewish
  Cooking Event
DTSTART;TZID=America/New_York:20180510T180000
DTEND;TZID=America/New_York:20180510T220000
END:VEVENT
END:VCALENDAR
