BEGIN:VCALENDAR
PRODID:-//eluceo/ical//2.0/EN
VERSION:2.0
CALSCALE:GREGORIAN
BEGIN:VEVENT
UID:da5dde415d186ad512ab0cd4a888f695
DTSTAMP:20260421T164200Z
SUMMARY:Lag B'Omer Community Wide prog at BI
DESCRIPTION:Jewish Federation of Central Massachusetts\nCalendar\nhttps://j
 ewishcentralmass.org/calendar/lag-bomer-community-wide-prog-at-bi\n\nLag B
 'Omer Community wide prog at BI
DTSTART;TZID=America/New_York:20140518T160000
DTEND;TZID=America/New_York:20140518T163000
END:VEVENT
END:VCALENDAR
