BEGIN:VCALENDAR
PRODID:-//eluceo/ical//2.0/EN
VERSION:2.0
CALSCALE:GREGORIAN
BEGIN:VEVENT
UID:fd08f022da5713c490dfcaba95a34592
DTSTAMP:20260422T211127Z
SUMMARY:Lag B'Omer Community Celebration 2023
DESCRIPTION:Jewish Federation of Central Massachusetts\nCalendar\nhttps://j
 ewishcentralmass.org/calendar/lag-bomer-community-celebration-2023\n\nLag 
 B'Omer Community Celebration BBQ\n\nTuesday\, May 9th at 5:00 pm\n\n2 Broo
 kshire Road\; Worcester
DTSTART;TZID=America/New_York:20230509T170000
DTEND;TZID=America/New_York:20230509T190000
END:VEVENT
END:VCALENDAR
