BEGIN:VCALENDAR
PRODID:-//eluceo/ical//2.0/EN
VERSION:2.0
CALSCALE:GREGORIAN
BEGIN:VEVENT
UID:ccf4cadc6c8d10e20008cb6fede73f1f
DTSTAMP:20260424T104434Z
SUMMARY:LAG B'OMER
DESCRIPTION:Jewish Federation of Central Massachusetts\nCalendar\nhttps://j
 ewishcentralmass.org/calendar/lag-bomer\n\nLAG B'OMER
DTSTART;TZID=America/New_York:20140518T000000
DTEND;TZID=America/New_York:20140518T235900
END:VEVENT
END:VCALENDAR
