BEGIN:VCALENDAR
PRODID:-//eluceo/ical//2.0/EN
VERSION:2.0
CALSCALE:GREGORIAN
BEGIN:VEVENT
UID:4a9de65c7adcc4b21fae5e65a2362291
DTSTAMP:20260423T101700Z
SUMMARY:Lag Ba'Omer Community-wide Event
DESCRIPTION:Jewish Federation of Central Massachusetts\nCalendar\nhttps://j
 ewishcentralmass.org/calendar/lag-baomer-community-wide-event\n\nLag Ba'Om
 er Community-wide Event
DTSTART;TZID=America/New_York:20130428T160000
DTEND;TZID=America/New_York:20130428T163000
END:VEVENT
END:VCALENDAR
