BEGIN:VCALENDAR
PRODID:-//eluceo/ical//2.0/EN
VERSION:2.0
CALSCALE:GREGORIAN
BEGIN:VEVENT
UID:6fe4fcead4ee8a1a04a2ea2a7c9c5c8c
DTSTAMP:20260420T214231Z
SUMMARY:Lag Ba'omer 5786
DESCRIPTION:Jewish Federation of Central Massachusetts\nCalendar\nhttps://j
 ewishcentralmass.org/calendar/lag-baomer-5786\n\nLag Ba'omer 5786
DTSTART;TZID=America/New_York:20260505T000000
DTEND;TZID=America/New_York:20260505T235959
END:VEVENT
END:VCALENDAR
