BEGIN:VCALENDAR
PRODID:-//eluceo/ical//2.0/EN
VERSION:2.0
CALSCALE:GREGORIAN
BEGIN:VEVENT
UID:518a1a6f91e33e7628bccc085748442c
DTSTAMP:20260423T184801Z
SUMMARY:LAG BA'OMER
DESCRIPTION:Jewish Federation of Central Massachusetts\nCalendar\nhttps://j
 ewishcentralmass.org/calendar/lag-baomer\n\nLAG BA'OMER
DTSTART;TZID=America/New_York:20130428T000000
DTEND;TZID=America/New_York:20130428T235900
END:VEVENT
END:VCALENDAR
