BEGIN:VCALENDAR
PRODID:-//eluceo/ical//2.0/EN
VERSION:2.0
CALSCALE:GREGORIAN
BEGIN:VEVENT
UID:03aa626d32955c46f10eb5cd265542ec
DTSTAMP:20260423T002232Z
SUMMARY:Ladies Night Out pre-Shavuot 2026
DESCRIPTION:Jewish Federation of Central Massachusetts\nCalendar\nhttps://j
 ewishcentralmass.org/calendar/ladies-night-out-pre-shavuot-2026\n\nMonday\
 , May 18th\, 7:00 pm\, Ladies Night Out pre-Shavuot
DTSTART;TZID=America/New_York:20260518T190000
DTEND;TZID=America/New_York:20260518T210000
END:VEVENT
END:VCALENDAR
