BEGIN:VCALENDAR
PRODID:-//eluceo/ical//2.0/EN
VERSION:2.0
CALSCALE:GREGORIAN
BEGIN:VEVENT
UID:4e265b8ef200777ce1556d96c0d3c44b
DTSTAMP:20260423T124730Z
SUMMARY:Ladies Night Out for Shavuot - May 28th
DESCRIPTION:Jewish Federation of Central Massachusetts\nCalendar\nhttps://j
 ewishcentralmass.org/calendar/ladies-night-out-for-shavuot-may-28th\n\nLad
 ies Night Out for Shavuot\n\n \n\nWednesday\, May 28 at 7:15 pm\n\n \n\
 nJoin us as we prepare for the Holiday of Shavuot & explore its tradition
 s\n\n \n\nDecorate a Cheesecake\n\nCocktails\n\nMusical Entertainment\n\n
  \n\n$20\n\n \n\nAddress to be confirmed upon RSVP
DTSTART;TZID=America/New_York:20250528T191500
DTEND;TZID=America/New_York:20250528T211500
END:VEVENT
END:VCALENDAR
