BEGIN:VCALENDAR
PRODID:-//eluceo/ical//2.0/EN
VERSION:2.0
CALSCALE:GREGORIAN
BEGIN:VEVENT
UID:dbc0e3387cab8dedfb4ca76798e6f7c9
DTSTAMP:20260421T013612Z
SUMMARY:Ladies Night Out for Pre-Shavuot 2024
DESCRIPTION:Jewish Federation of Central Massachusetts\nCalendar\nhttps://j
 ewishcentralmass.org/calendar/ladies-night-out-for-pre-shavuot-2024\n\nLad
 ies Night Out for Pre-Shavuot \n\nThursday\, June 6th\, 7:30 pm with Jewi
 sh Federation\, Torah Center\, and the JCC
DTSTART;TZID=America/New_York:20240606T193000
DTEND;TZID=America/New_York:20240606T213000
END:VEVENT
END:VCALENDAR
