BEGIN:VCALENDAR
PRODID:-//eluceo/ical//2.0/EN
VERSION:2.0
CALSCALE:GREGORIAN
BEGIN:VEVENT
UID:4153f16df8a0150a822d5b78c0ac2eef
DTSTAMP:20260423T004817Z
SUMMARY:LABOR DAY
DESCRIPTION:Jewish Federation of Central Massachusetts\nCalendar\nhttps://j
 ewishcentralmass.org/calendar/labor-day\n\nLABOR DAY
DTSTART;TZID=America/New_York:20130902T000000
DTEND;TZID=America/New_York:20130902T235900
END:VEVENT
END:VCALENDAR
