BEGIN:VCALENDAR
PRODID:-//eluceo/ical//2.0/EN
VERSION:2.0
CALSCALE:GREGORIAN
BEGIN:VEVENT
UID:e8fc4e9a753f80097a0ccc94cedeaa5f
DTSTAMP:20260425T172454Z
SUMMARY:Krav Maga Kesher Event
DESCRIPTION:Jewish Federation of Central Massachusetts\nCalendar\nhttps://j
 ewishcentralmass.org/calendar/krav-maga-kesher-event\n\nKrav Maga Kesher E
 vent \n\nApril 26\n\nTime: TBD
DTSTART;TZID=America/New_York:20260426T130000
DTEND;TZID=America/New_York:20260426T180000
END:VEVENT
END:VCALENDAR
