BEGIN:VCALENDAR
PRODID:-//eluceo/ical//2.0/EN
VERSION:2.0
CALSCALE:GREGORIAN
BEGIN:VEVENT
UID:56aadf2f33660c6442349c8662921a68
DTSTAMP:20260420T134710Z
SUMMARY:Kol Nidre - 5785
DESCRIPTION:Jewish Federation of Central Massachusetts\nCalendar\nhttps://j
 ewishcentralmass.org/calendar/kol-nidre-5785\n\nKol Nidre - 5785
DTSTART;TZID=America/New_York:20241011T000000
DTEND;TZID=America/New_York:20241011T235959
END:VEVENT
END:VCALENDAR
