BEGIN:VCALENDAR
PRODID:-//eluceo/ical//2.0/EN
VERSION:2.0
CALSCALE:GREGORIAN
BEGIN:VEVENT
UID:ef499e1afa77e684558f566ebe613ba2
DTSTAMP:20260423T074148Z
SUMMARY:Know Your Rights Program
DESCRIPTION:Jewish Federation of Central Massachusetts\nCalendar\nhttps://j
 ewishcentralmass.org/calendar/know-your-rights-program\n\nKnow Your Rights
 \n\nResponding to Antisemitism in Your Child’s K-12 School\n\nThursday\,
  October 18\, 2023 | 7:30 pm ET On Zoom\n\nRegister Here
DTSTART;TZID=America/New_York:20231018T193000
DTEND;TZID=America/New_York:20231018T213000
END:VEVENT
END:VCALENDAR
