BEGIN:VCALENDAR
PRODID:-//eluceo/ical//2.0/EN
VERSION:2.0
CALSCALE:GREGORIAN
BEGIN:VEVENT
UID:9a45e1fcfdea6343327778b98eab0d25
DTSTAMP:20260423T093548Z
SUMMARY:Klezmer and Torathon
DESCRIPTION:Jewish Federation of Central Massachusetts\nCalendar\nhttps://j
 ewishcentralmass.org/calendar/klezmer-and-torathon\n\nKlezmer and Torathon
  Program at BI\n\nTime: TBD
DTSTART;TZID=America/New_York:20231104T180000
DTEND;TZID=America/New_York:20231104T220000
END:VEVENT
END:VCALENDAR
