BEGIN:VCALENDAR
PRODID:-//eluceo/ical//2.0/EN
VERSION:2.0
CALSCALE:GREGORIAN
BEGIN:VEVENT
UID:569e70d70a44d0b9cf267fedce899d0b
DTSTAMP:20260424T071155Z
SUMMARY:Kehillah High - Pre-Hanukkah cooking program
DESCRIPTION:Jewish Federation of Central Massachusetts\nCalendar\nhttps://j
 ewishcentralmass.org/calendar/kehillah-high-pre-hanukkah-cooking-program\n
 \nKehillah High - Pre-Hanukkah cooking program
DTSTART;TZID=America/New_York:20191204T000000
DTEND;TZID=America/New_York:20191204T235959
END:VEVENT
END:VCALENDAR
