BEGIN:VCALENDAR
PRODID:-//eluceo/ical//2.0/EN
VERSION:2.0
CALSCALE:GREGORIAN
BEGIN:VEVENT
UID:6b618afa88860c90d3680fd57f7acf29
DTSTAMP:20260423T044525Z
SUMMARY:Kehillah High Jan '19
DESCRIPTION:Jewish Federation of Central Massachusetts\nCalendar\nhttps://j
 ewishcentralmass.org/calendar/kehillah-high-jan-19\n\nQuestions? Contact 
 Kehillah High Coordinator: ziva.rosenhand@gmail.com\n\nJan. 13th - Krav M
 aga
DTSTART;TZID=America/New_York:20190113T100000
DTEND;TZID=America/New_York:20190113T113000
END:VEVENT
END:VCALENDAR
