BEGIN:VCALENDAR
PRODID:-//eluceo/ical//2.0/EN
VERSION:2.0
CALSCALE:GREGORIAN
BEGIN:VEVENT
UID:7a9e3ed3cf3b3430ad322ef234860f2a
DTSTAMP:20260422T183300Z
SUMMARY:Kehillah High Feb '19
DESCRIPTION:Jewish Federation of Central Massachusetts\nCalendar\nhttps://j
 ewishcentralmass.org/calendar/kehillah-high-feb-19\n\nKehillah High Dates 
 - Please verify class time with the Kehillah High Coordinator: ziva.rose
 nhand@gmail.com\n\nFeb. 3rd\n\nMar. 3rd\n\nApr. 7th\n\nMay 5th (or maybe 2
 2)
DTSTART;TZID=America/New_York:20190203T000000
DTEND;TZID=America/New_York:20190203T235500
END:VEVENT
END:VCALENDAR
