BEGIN:VCALENDAR
PRODID:-//eluceo/ical//2.0/EN
VERSION:2.0
CALSCALE:GREGORIAN
BEGIN:VEVENT
UID:56c67c5868ff38d73302772dbf147020
DTSTAMP:20260423T040446Z
SUMMARY:Kehillah High Dec '18
DESCRIPTION:Jewish Federation of Central Massachusetts\nCalendar\nhttps://j
 ewishcentralmass.org/calendar/kehillah-high-dec-18\n\nKehillah High Dates 
 - Please verify class time with the Kehillah High Coordinator: ziva.rose
 nhand@gmail.com\n\nDec 16th\n\nJan. 13th\n\nFeb. 3rd\n\nMar. 3rd\n\nApr. 7
 th\n\nMay 5th (or maybe 22)
DTSTART;TZID=America/New_York:20181216T000000
DTEND;TZID=America/New_York:20181216T235500
END:VEVENT
END:VCALENDAR
